{"text_format":"1","workbook":"xlsx","n_sheets":2,"sheets":["Times","Maths"],"not_rendered":{"charts":0,"images":3,"macros":1,"external_links":0,"defined_names":0,"comments":0,"pivot_tables":0},"unopened":[],"bounds":{"document_bytes":16777216,"sheet_cells":100000,"rows_first":2000,"rows_last":500,"rows_between":2000,"halvings":0,"cell_chars":16384,"cell_head_chars":4096},"cells_cut":0,"cells_raw":0,"read":"whole","date_system":"1900"}

{"sheet":"Times","index":0,"n_rows":47,"n_cols":11,"rows_kept":47,"cut":false,"hidden":false,"merged":[[1,10,1,11],[2,10,2,11]]}
["Level","Time",null,"Layer times",null,"Layer",{"$f":"\"Restarts: \"&COUNT(G$2:G$1048576)","v":"Restarts: 1"}]
["(0-1)",9.5990000000000002,null,null,null,"Wrath",1.5309999999999999,null,null,null,"Created By B.G.B."]
["(0-2)",11.37,null,null,null,null,null,null,null,null,"How to use:"]
["(0-S)",null,null,null,null,null,null,null,null,null,"https://youtu.be/sCqH-S7OVUk"]
["(0-3)",9.2319999999999993,null,"Prelude"]
["(0-4)",9.9920000000000009,null,{"$f":"Maths!G13","v":51.336999999999996}]
["(0-5)",11.144]
["(1-1)",15.353,null,"Act 1"]
["(1-S)",null,null,{"$f":"Maths!G72","v":231.40899999999999}]
["(1-2)",12.84]
["(1-3)",9.6880000000000006,null,"Limbo"]
["(1-4)",9.6479999999999997,null,{"$f":"Maths!G19","v":47.528999999999996}]
["(2-1)",13.121]
["(2-2)",29.190999999999999]
["(2-3)",8.1679999999999993,null,"Lust"]
["(2-S)",null,null,{"$f":"Maths!G25","v":114.071}]
["(2-4)",23.591000000000001]
["(3-1)",16.273,null,"Gluttony"]
["(P-1)",null,null,{"$f":"Maths!G31","v":29.808999999999997}]
["(3-2)",13.536]
["(4-1)",11.025,null,"Act 2"]
["(4-2)",32.326000000000001,null,{"$f":"Maths!G77","v":313.83799999999997}]
["(4-S)"]
["(4-3)",15.528,null,"Greed"]
["(4-4)",24.606999999999999,null,{"$f":"Maths!G37","v":123.48599999999999}]
["(5-1)",15.765000000000001]
["(5-S)"]
["(5-2)",23.46,null,"Wrath"]
["(5-3)",24.655000000000001,null,{"$f":"Maths!G43","v":115.28100000000001}]
["(5-4)",9.8699999999999992]
["(6-1)",28.558,null,"Heresy"]
["(6-2)",6.5129999999999999,null,{"$f":"Maths!G49","v":35.070999999999998}]
["(P-2)"]
["(7-1)",125.559,null,"Act 3"]
["(7-2)",30.39,null,{"$f":"Maths!G82","v":249.31200000000001}]
["(7-3)",35.356000000000002]
["(7-S)",null,null,"Violence"]
["(7-4)",18.007000000000001,null,{"$f":"Maths!G55","v":249.31200000000001}]
["(8-1)"]
["(8-)"]
["(8-)",null,null,"Fraud"]
["(8-)",null,null,{"$f":"Maths!G61","v":0}]
["(8-)"]
["(9-1)",null,null,"Treachery"]
["(9-)",null,null,{"$f":"Maths!G67","v":0}]
["(9-)"]
["IGT",{"$f":"IF(Maths!G7<10000,Maths!G7,SUBSTITUTE(TEXT(Maths!G7,\"0X00X00.000\"),\"X\",\":\"))","v":925.89599999999984}]

{"sheet":"Maths","index":1,"n_rows":120,"n_cols":11,"rows_kept":120,"cut":false,"hidden":false,"merged":[[2,9,2,10]]}
["Layer","Time","Min","Sec",null,"Time","Min","Sec","Sec","Min","Sec"]
["Prelude",{"$f":"Times!B2","v":9.5990000000000002},{"$f":"QUOTIENT(B2, 100)","v":0},{"$f":"B2-(C2*100)+(C2*60)","v":9.5990000000000002},null,{"$f":"Times!I2","v":0},{"$f":"QUOTIENT(F2, 100)","v":0},{"$f":"F2-G2*100","v":0},{"$f":"((G2*60)+H2)-((G3*60)+H3)","v":0},{"$f":"QUOTIENT(I2, 60)","v":0},{"$f":"MOD(I2,60)","v":0}]
["Prelude",{"$f":"Times!B3","v":11.37},0,11.37,null,{"$f":"Times!I3","v":0},{"$f":"QUOTIENT(F3, 100)","v":0},{"$f":"F3-G3*100","v":0},null,{"$f":"J2*100+K2","v":0}]
["Prelude",{"$f":"Times!B4","v":0},0,0]
["Prelude",{"$f":"Times!B5","v":9.2319999999999993},0,9.2319999999999993]
["Prelude",{"$f":"Times!B6","v":9.9920000000000009},0,9.9920000000000009]
["Prelude",{"$f":"Times!B7","v":11.144},0,11.144,null,"FullGame",{"$f":"F10*10000+G10*100+H10","v":925.89599999999984},null,null,"Layers:"]
["Limbo",{"$f":"Times!B8","v":15.353},{"$f":"QUOTIENT(B8, 100)","v":0},{"$f":"B8-(C8*100)+(C8*60)","v":15.353},null,"hour","min","total sec",null,"Prelude"]
["Limbo",{"$f":"Times!B9","v":0},0,0,null,null,null,{"$f":"SUM(D:D)","v":565.89599999999984},null,"Limbo"]
["Limbo",{"$f":"Times!B10","v":12.84},0,12.84,null,{"$f":"QUOTIENT(QUOTIENT(H9, 60), 60)","v":0},{"$f":"MOD(QUOTIENT(H9, 60), 60)","v":9},{"$f":"MOD(H9,60)","v":25.895999999999844},null,"Lust"]
["Limbo",{"$f":"Times!B11","v":9.6880000000000006},0,9.6880000000000006,null,null,null,null,null,"Gluttony"]
["Limbo",{"$f":"Times!B12","v":9.6479999999999997},0,{"$f":"B12-(C12*100)+(C12*60)","v":9.6479999999999997},null,null,null,null,null,"Greed"]
["Lust",{"$f":"Times!B13","v":13.121},0,13.121,null,"Prelude",{"$f":"F16*100+G16","v":51.336999999999996},null,null,"Wrath"]
["Lust",{"$f":"Times!B14","v":29.190999999999999},0,29.190999999999999,null,"min","total sec",null,null,"Heresy"]
["Lust",{"$f":"Times!B15","v":8.1679999999999993},0,8.1679999999999993,null,null,{"$f":"SUMIF(A:A, J8, D:D)+SUMIF(A:A, J18, D:D)","v":51.336999999999996},null,null,"Violence"]
["Lust",{"$f":"Times!B16","v":0},0,0,null,{"$f":"QUOTIENT(G15, 60)","v":0},{"$f":"MOD(G15,60)","v":51.336999999999996},null,null,"Fraud"]
["Lust",{"$f":"Times!B17","v":23.591000000000001},0,23.591000000000001,null,null,null,null,null,"Treachery"]
["Gluttony",{"$f":"Times!B18","v":16.273},0,16.273,null,null,null,null,null,0]
["Gluttony",{"$f":"Times!B19","v":0},0,0,null,"Limbo",{"$f":"F22*100+G22","v":47.528999999999996},null,null,1]
["Gluttony",{"$f":"Times!B20","v":13.536},0,13.536,null,"min","total sec",null,null,2]
["Greed",{"$f":"Times!B21","v":11.025},0,11.025,null,null,{"$f":"SUMIF(A:A, J9, D:D)+SUMIF(A:A, J19, D:D)","v":47.528999999999996},null,null,3]
["Greed",{"$f":"Times!B22","v":32.326000000000001},0,32.326000000000001,null,{"$f":"QUOTIENT(G21, 60)","v":0},{"$f":"MOD(G21,60)","v":47.528999999999996},null,null,4]
["Greed",{"$f":"Times!B23","v":0},0,0,null,null,null,null,null,5]
["Greed",{"$f":"Times!B24","v":15.528},0,15.528,null,null,null,null,null,6]
["Greed",{"$f":"Times!B25","v":24.606999999999999},0,24.606999999999999,null,"Lust",{"$f":"F28*100+G28","v":114.071},null,null,7]
["Wrath",{"$f":"Times!B26","v":15.765000000000001},0,15.765000000000001,null,"min","total sec",null,null,8]
["Wrath",{"$f":"Times!B27","v":0},0,0,null,null,{"$f":"SUMIF(A:A, J10, D:D)+SUMIF(A:A, J20, D:D)","v":74.070999999999998},null,null,9]
["Wrath",{"$f":"Times!B28","v":23.46},0,23.46,null,{"$f":"QUOTIENT(G27, 60)","v":1},{"$f":"MOD(G27,60)","v":14.070999999999998}]
["Wrath",{"$f":"Times!B29","v":24.655000000000001},0,24.655000000000001]
["Wrath",{"$f":"Times!B30","v":9.8699999999999992},0,9.8699999999999992]
["Heresy",{"$f":"Times!B31","v":28.558},0,28.558,null,"Gluttony",{"$f":"F34*100+G34","v":29.808999999999997}]
["Heresy",{"$f":"Times!B32","v":6.5129999999999999},0,6.5129999999999999,null,"min","total sec"]
["Heresy",{"$f":"Times!B33","v":0},0,0,null,null,{"$f":"SUMIF(A:A, J11, D:D)+SUMIF(A:A, J21, D:D)","v":29.808999999999997}]
["Violence",{"$f":"Times!B34","v":125.559},{"$f":"QUOTIENT(B34, 100)","v":1},85.558999999999997,null,{"$f":"QUOTIENT(G33, 60)","v":0},{"$f":"MOD(G33,60)","v":29.808999999999997}]
["Violence",{"$f":"Times!B35","v":30.39},{"$f":"QUOTIENT(B35, 100)","v":0},30.39]
["Violence",{"$f":"Times!B36","v":35.356000000000002},0,35.356000000000002]
["Violence",{"$f":"Times!B37","v":0},0,0,null,"Greed",{"$f":"F40*100+G40","v":123.48599999999999}]
["Violence",{"$f":"Times!B38","v":18.007000000000001},0,18.007000000000001,null,"min","total sec"]
["Fraud",{"$f":"Times!B39","v":0},0,0,null,null,{"$f":"SUMIF(A:A, J12, D:D)+SUMIF(A:A, J22, D:D)","v":83.48599999999999}]
["Fraud",{"$f":"Times!B40","v":0},0,0,null,{"$f":"QUOTIENT(G39, 60)","v":1},{"$f":"MOD(G39,60)","v":23.48599999999999}]
["Fraud",{"$f":"Times!B41","v":0},0,0]
["Fraud",{"$f":"Times!B42","v":0},0,0]
["Fraud",{"$f":"Times!B43","v":0},0,0,null,"Wrath",{"$f":"F46*100+G46","v":115.28100000000001}]
["Treachery",{"$f":"Times!B44","v":0},0,0,null,"min","total sec"]
["Treachery",{"$f":"Times!B45","v":0},0,0,null,null,{"$f":"SUMIF(A:A, J13, D:D)+SUMIF(A:A, J23, D:D)","v":75.281000000000006}]
["Treachery",{"$f":"Times!B46","v":0},0,0,null,{"$f":"QUOTIENT(G45, 60)","v":1},{"$f":"MOD(G45,60)","v":15.281000000000006}]
[{"$f":"IF(Times!F2=\"\", \".\", Times!F2)","v":"Wrath"},{"$f":"Times!G2","v":1.5309999999999999},0,{"$f":"B47-(C47*100)+(C47*60)","v":1.5309999999999999}]
[{"$f":"IF(Times!F3=\"\", \".\", Times!F3)","v":"."},{"$f":"Times!G3","v":0},0,0]
[{"$f":"IF(Times!F4=\"\", \".\", Times!F4)","v":"."},{"$f":"Times!G4","v":0},0,0,null,"Heresy",{"$f":"F52*100+G52","v":35.070999999999998}]
[{"$f":"IF(Times!F5=\"\", \".\", Times!F5)","v":"."},{"$f":"Times!G5","v":0},0,0,null,"min","total sec"]
[{"$f":"IF(Times!F6=\"\", \".\", Times!F6)","v":"."},{"$f":"Times!G6","v":0},0,0,null,null,{"$f":"SUMIF(A:A, J14, D:D)+SUMIF(A:A, J24, D:D)","v":35.070999999999998}]
[{"$f":"IF(Times!F7=\"\", \".\", Times!F7)","v":"."},{"$f":"Times!G7","v":0},0,0,null,{"$f":"QUOTIENT(G51, 60)","v":0},{"$f":"MOD(G51,60)","v":35.070999999999998}]
[{"$f":"IF(Times!F8=\"\", \".\", Times!F8)","v":"."},{"$f":"Times!G8","v":0},0,0]
[{"$f":"IF(Times!F9=\"\", \".\", Times!F9)","v":"."},{"$f":"Times!G9","v":0},0,0]
[{"$f":"IF(Times!F10=\"\", \".\", Times!F10)","v":"."},{"$f":"Times!G10","v":0},0,0,null,"Violence",{"$f":"F58*100+G58","v":249.31200000000001}]
[{"$f":"IF(Times!F11=\"\", \".\", Times!F11)","v":"."},{"$f":"Times!G11","v":0},0,0,null,"min","total sec"]
[{"$f":"IF(Times!F12=\"\", \".\", Times!F12)","v":"."},{"$f":"Times!G12","v":0},0,0,null,null,{"$f":"SUMIF(A:A, J15, D:D)+SUMIF(A:A, J25, D:D)","v":169.31200000000001}]
[{"$f":"IF(Times!F13=\"\", \".\", Times!F13)","v":"."},{"$f":"Times!G13","v":0},0,0,null,{"$f":"QUOTIENT(G57, 60)","v":2},{"$f":"MOD(G57,60)","v":49.312000000000012}]
[{"$f":"IF(Times!F14=\"\", \".\", Times!F14)","v":"."},{"$f":"Times!G14","v":0},0,0]
[{"$f":"IF(Times!F15=\"\", \".\", Times!F15)","v":"."},{"$f":"Times!G15","v":0},0,0]
[{"$f":"IF(Times!F16=\"\", \".\", Times!F16)","v":"."},{"$f":"Times!G16","v":0},0,0,null,"Fraud",{"$f":"F64*100+G64","v":0}]
[{"$f":"IF(Times!F17=\"\", \".\", Times!F17)","v":"."},{"$f":"Times!G17","v":0},0,0,null,"min","total sec"]
[{"$f":"IF(Times!F18=\"\", \".\", Times!F18)","v":"."},{"$f":"Times!G18","v":0},0,0,null,null,{"$f":"SUMIF(A:A, J16, D:D)+SUMIF(A:A, J26, D:D)","v":0}]
[{"$f":"IF(Times!F19=\"\", \".\", Times!F19)","v":"."},{"$f":"Times!G19","v":0},0,0,null,{"$f":"QUOTIENT(G63, 60)","v":0},{"$f":"MOD(G63,60)","v":0}]
[{"$f":"IF(Times!F20=\"\", \".\", Times!F20)","v":"."},{"$f":"Times!G20","v":0},0,0]
[{"$f":"IF(Times!F21=\"\", \".\", Times!F21)","v":"."},{"$f":"Times!G21","v":0},{"$f":"QUOTIENT(B66, 100)","v":0},0]
[{"$f":"IF(Times!F22=\"\", \".\", Times!F22)","v":"."},{"$f":"Times!G22","v":0},{"$f":"QUOTIENT(B67, 100)","v":0},0,null,"Treachery",{"$f":"F70*100+G70","v":0}]
[{"$f":"IF(Times!F23=\"\", \".\", Times!F23)","v":"."},{"$f":"Times!G23","v":0},0,0,null,"min","total sec"]
[{"$f":"IF(Times!F24=\"\", \".\", Times!F24)","v":"."},{"$f":"Times!G24","v":0},0,0,null,null,{"$f":"SUMIF(A:A, J17, D:D)+SUMIF(A:A, J27, D:D)","v":0}]
[{"$f":"IF(Times!F25=\"\", \".\", Times!F25)","v":"."},{"$f":"Times!G25","v":0},0,0,null,{"$f":"QUOTIENT(G69, 60)","v":0},{"$f":"MOD(G69,60)","v":0}]
[{"$f":"IF(Times!F26=\"\", \".\", Times!F26)","v":"."},{"$f":"Times!G26","v":0},0,0]
[{"$f":"IF(Times!F27=\"\", \".\", Times!F27)","v":"."},{"$f":"Times!G27","v":0},0,0,null,"Act 1",{"$f":"F75*100+G75","v":231.40899999999999}]
[{"$f":"IF(Times!F28=\"\", \".\", Times!F28)","v":"."},{"$f":"Times!G28","v":0},0,0,null,"min","total sec"]
[{"$f":"IF(Times!F29=\"\", \".\", Times!F29)","v":"."},{"$f":"Times!G29","v":0},0,0,null,null,{"$f":"G21+G27+G33","v":151.40899999999999}]
[{"$f":"IF(Times!F30=\"\", \".\", Times!F30)","v":"."},{"$f":"Times!G30","v":0},0,0,null,{"$f":"QUOTIENT(G74, 60)","v":2},{"$f":"MOD(G74,60)","v":31.408999999999992}]
[{"$f":"IF(Times!F31=\"\", \".\", Times!F31)","v":"."},{"$f":"Times!G31","v":0},0,{"$f":"B76-(C76*100)+(C76*60)","v":0}]
[{"$f":"IF(Times!F32=\"\", \".\", Times!F32)","v":"."},{"$f":"Times!G32","v":0},0,0,null,"Act 2",{"$f":"F80*100+G80","v":313.83799999999997}]
[{"$f":"IF(Times!F33=\"\", \".\", Times!F33)","v":"."},{"$f":"Times!G33","v":0},0,0,null,"min","total sec"]
[{"$f":"IF(Times!F34=\"\", \".\", Times!F34)","v":"."},{"$f":"Times!G34","v":0},0,0,null,null,{"$f":"G39+G45+G51","v":193.83799999999999}]
[{"$f":"IF(Times!F35=\"\", \".\", Times!F35)","v":"."},{"$f":"Times!G35","v":0},0,0,null,{"$f":"QUOTIENT(G79, 60)","v":3},{"$f":"MOD(G79,60)","v":13.837999999999994}]
[{"$f":"IF(Times!F36=\"\", \".\", Times!F36)","v":"."},{"$f":"Times!G36","v":0},0,0]
[{"$f":"IF(Times!F37=\"\", \".\", Times!F37)","v":"."},{"$f":"Times!G37","v":0},0,0,null,"Act 3",{"$f":"F85*100+G85","v":249.31200000000001}]
[{"$f":"IF(Times!F38=\"\", \".\", Times!F38)","v":"."},{"$f":"Times!G38","v":0},0,0,null,"min","total sec"]
[{"$f":"IF(Times!F39=\"\", \".\", Times!F39)","v":"."},{"$f":"Times!G39","v":0},0,0,null,null,{"$f":"G57+G63+G69","v":169.31200000000001}]
[{"$f":"IF(Times!F40=\"\", \".\", Times!F40)","v":"."},{"$f":"Times!G40","v":0},0,0,null,{"$f":"QUOTIENT(G84, 60)","v":2},{"$f":"MOD(G84,60)","v":49.312000000000012}]
[{"$f":"IF(Times!F41=\"\", \".\", Times!F41)","v":"."},{"$f":"Times!G41","v":0},0,0]
[{"$f":"IF(Times!F42=\"\", \".\", Times!F42)","v":"."},{"$f":"Times!G42","v":0},0,0]
[{"$f":"IF(Times!F43=\"\", \".\", Times!F43)","v":"."},{"$f":"Times!G43","v":0},0,0]
[{"$f":"IF(Times!F44=\"\", \".\", Times!F44)","v":"."},{"$f":"Times!G44","v":0},0,0]
[{"$f":"IF(Times!F45=\"\", \".\", Times!F45)","v":"."},{"$f":"Times!G45","v":0},0,0]
[{"$f":"IF(Times!F46=\"\", \".\", Times!F46)","v":"."},{"$f":"Times!G46","v":0},0,0]
[{"$f":"IF(Times!F47=\"\", \".\", Times!F47)","v":"."},{"$f":"Times!G47","v":0},0,0]
[{"$f":"IF(Times!F48=\"\", \".\", Times!F48)","v":"."},{"$f":"Times!G48","v":0},0,0]
[{"$f":"IF(Times!F49=\"\", \".\", Times!F49)","v":"."},{"$f":"Times!G49","v":0},0,0]
[{"$f":"IF(Times!F50=\"\", \".\", Times!F50)","v":"."},{"$f":"Times!G50","v":0},0,0]
[{"$f":"IF(Times!F51=\"\", \".\", Times!F51)","v":"."},{"$f":"Times!G51","v":0},0,0]
[{"$f":"IF(Times!F52=\"\", \".\", Times!F52)","v":"."},{"$f":"Times!G52","v":0},0,0]
[{"$f":"IF(Times!F53=\"\", \".\", Times!F53)","v":"."},{"$f":"Times!G53","v":0},0,0]
[{"$f":"IF(Times!F54=\"\", \".\", Times!F54)","v":"."},{"$f":"Times!G54","v":0},0,0]
[{"$f":"IF(Times!F55=\"\", \".\", Times!F55)","v":"."},{"$f":"Times!G55","v":0},0,0]
[{"$f":"IF(Times!F56=\"\", \".\", Times!F56)","v":"."},{"$f":"Times!G56","v":0},0,0]
[{"$f":"IF(Times!F57=\"\", \".\", Times!F57)","v":"."},{"$f":"Times!G57","v":0},0,0]
[{"$f":"IF(Times!F58=\"\", \".\", Times!F58)","v":"."},{"$f":"Times!G58","v":0},0,0]
[{"$f":"IF(Times!F59=\"\", \".\", Times!F59)","v":"."},{"$f":"Times!G59","v":0},0,0]
[{"$f":"IF(Times!F60=\"\", \".\", Times!F60)","v":"."},{"$f":"Times!G60","v":0},0,0]
[{"$f":"IF(Times!F61=\"\", \".\", Times!F61)","v":"."},{"$f":"Times!G61","v":0},0,0]
[{"$f":"IF(Times!F62=\"\", \".\", Times!F62)","v":"."},{"$f":"Times!G62","v":0},0,0]
[{"$f":"IF(Times!F63=\"\", \".\", Times!F63)","v":"."},{"$f":"Times!G63","v":0},0,0]
[{"$f":"IF(Times!F64=\"\", \".\", Times!F64)","v":"."},{"$f":"Times!G64","v":0},0,0]
[{"$f":"IF(Times!F65=\"\", \".\", Times!F65)","v":"."},{"$f":"Times!G65","v":0},0,0]
[{"$f":"IF(Times!F66=\"\", \".\", Times!F66)","v":"."},{"$f":"Times!G66","v":0},0,0]
[{"$f":"IF(Times!F67=\"\", \".\", Times!F67)","v":"."},{"$f":"Times!G67","v":0},0,0]
[{"$f":"IF(Times!F68=\"\", \".\", Times!F68)","v":"."},{"$f":"Times!G68","v":0},0,0]
[{"$f":"IF(Times!F69=\"\", \".\", Times!F69)","v":"."},{"$f":"Times!G69","v":0},0,0]
[{"$f":"IF(Times!F70=\"\", \".\", Times!F70)","v":"."},{"$f":"Times!G70","v":0},0,0]
[{"$f":"IF(Times!F71=\"\", \".\", Times!F71)","v":"."},{"$f":"Times!G71","v":0},0,0]
[{"$f":"IF(Times!F72=\"\", \".\", Times!F72)","v":"."},{"$f":"Times!G72","v":0},0,0]
[{"$f":"IF(Times!F73=\"\", \".\", Times!F73)","v":"."},{"$f":"Times!G73","v":0},0,0]
[{"$f":"IF(Times!F74=\"\", \".\", Times!F74)","v":"."},{"$f":"Times!G74","v":0},0,0]
[{"$f":"IF(Times!F75=\"\", \".\", Times!F75)","v":"."},{"$f":"Times!G75","v":0},0,0]